Workbook

Sheet Meldevordruck
A1: Erläuterung
A2: Pflichtfelder | E2: Kennzahl gem. | G2: 1.41. | H2: 10
A3: wenn möglich bitte ausfüllen | E3: Ausschreibung | G3: Sportordnungsnummer | H3: Klasse
A4: nicht notwendig
A5: Nur bei Mannschaften
A7: Lfd.-Nr. | B7: Wettbewerb* | C7: Kennzahl | D7: Klasse bei Höhermeldung* | E7: Name | F7: Vorname | G7: Geschlecht | H7: VN-Name | I7: 1. Serie | J7: 2. Serie | K7: 3. Serie | L7: 4. Serie | M7: 5. Serie | N7: 6. Serie | O7: 7. Serie | P7: 8. Serie | Q7: 9. Serie | R7: 10. Serie | S7: 11. Serie | T7: 12. Serie | U7: Meldeergebnis VM | V7: Geburtsdatum | W7: Mitglieds-Nr. Pass-Nummer | X7: Mannschaft | Y7: Mitteilung | Z7: Erhalt einer Auszeichnung
A8: Beispiel 1 | B8: =VLOOKUP(C8,'[1]SPO-Nr.'!$A$1:$B$19,2,FALSE) -> 10m Gewehr Auflage | C8: 1.11. | D8: {=_xlfn.LET( _xlpm.gebJahr, YEAR(V8), _xlpm.geschlecht, G8, _xlpm.kennzahl, C8, _xlpm.tabelle, IF(ISNUMBER(SEARCH(".11", _xlpm.kennzahl)),Klassen!$A$19:$G$26,Klassen!$A$5:$G$13), _xlpm.jahrgangVon, INDEX(_xlpm.tabelle,,6), _xlpm.jahrgangBis, INDEX(_xlpm.tabelle,,7), _xlpm.klassenNrSpalte, IF(_xlpm.geschlecht="m", 2, 3), _xlpm.passendeZeile, _xlfn.XMATCH(1, (_xlpm.gebJahr<=_xlpm.jahrgangVon)*(_xlpm.gebJahr>=_xlpm.jahrgangBis), 0), _xlpm.klassenNr, INDEX(_xlpm.tabelle, _xlpm.passendeZeile, _xlpm.klassenNrSpalte), _xlpm.klassenNr )} -> 75 | E8: Bosse | F8: Maxima | G8: w | H8: SV Sandkrug | I8: 101.1 | J8: 99.8 | K8: 103.5 | L8: 100.8 | U8: =SUM(I8:N8) -> 405.2 | V8: 14.09.1960 | W8: 0707164-0001
A9: Beispiel 2 | B9: =VLOOKUP(C9,'[1]SPO-Nr.'!$A$1:$B$19,2,FALSE) -> 10m Gewehr | C9: 1.10. | D9: {=_xlfn.LET( _xlpm.gebJahr, YEAR(V9), _xlpm.geschlecht, G9, _xlpm.kennzahl, C9, _xlpm.tabelle, IF(ISNUMBER(SEARCH(".11", _xlpm.kennzahl)),Klassen!$A$19:$G$26,Klassen!$A$5:$G$13), _xlpm.jahrgangVon, INDEX(_xlpm.tabelle,,6), _xlpm.jahrgangBis, INDEX(_xlpm.tabelle,,7), _xlpm.klassenNrSpalte, IF(_xlpm.geschlecht="m", 2, 3), _xlpm.passendeZeile, _xlfn.XMATCH(1, (_xlpm.gebJahr<=_xlpm.jahrgangVon)*(_xlpm.gebJahr>=_xlpm.jahrgangBis), 0), _xlpm.klassenNr, INDEX(_xlpm.tabelle, _xlpm.passendeZeile, _xlpm.klassenNrSpalte), _xlpm.klassenNr )} -> 42 | E9: Mustermann | F9: Max | G9: m | H9: SV Sandkrug | I9: 85.5 | J9: 86.2 | K9: 90.4 | L9: 91.9 | U9: =SUM(I9:N9) -> 354 | V9: 08.06.2010 | W9: 0707164-0002 | X9: Musterhausen 1 | Z9: X
A10: Beispiel 3 | B10: =VLOOKUP(C10,'[1]SPO-Nr.'!$A$1:$B$19,2,FALSE) -> 10m Gewehr | C10: 1.10. | D10: {=_xlfn.LET( _xlpm.gebJahr, YEAR(V10), _xlpm.geschlecht, G10, _xlpm.kennzahl, C10, _xlpm.tabelle, IF(ISNUMBER(SEARCH(".11", _xlpm.kennzahl)),Klassen!$A$19:$G$26,Klassen!$A$5:$G$13), _xlpm.jahrgangVon, INDEX(_xlpm.tabelle,,6), _xlpm.jahrgangBis, INDEX(_xlpm.tabelle,,7), _xlpm.klassenNrSpalte, IF(_xlpm.geschlecht="m", 2, 3), _xlpm.passendeZeile, _xlfn.XMATCH(1, (_xlpm.gebJahr<=_xlpm.jahrgangVon)*(_xlpm.gebJahr>=_xlpm.jahrgangBis), 0), _xlpm.klassenNr, INDEX(_xlpm.tabelle, _xlpm.passendeZeile, _xlpm.klassenNrSpalte), _xlpm.klassenNr )} -> 42 | E10: Musterfrau | F10: Michael | G10: m | H10: SV Sandkrug | I10: 91.3 | J10: 92.8 | K10: 92.4 | L10: 95.1 | U10: =SUM(I10:N10) -> 371.6 | V10: 01.01.2010 | W10: 0707164-0003 | X10: Musterhausen 1 | Y10: Beispiel 3 und Beispiel 4 können nicht gleichzeitig schießen | Z10: X
A11: Beispiel 4 | B11: =VLOOKUP(C11,'[1]SPO-Nr.'!$A$1:$B$19,2,FALSE) -> 10m Gewehr | C11: 1.10. | D11: {=_xlfn.LET( _xlpm.gebJahr, YEAR(V11), _xlpm.geschlecht, G11, _xlpm.kennzahl, C11, _xlpm.tabelle, IF(ISNUMBER(SEARCH(".11", _xlpm.kennzahl)),Klassen!$A$19:$G$26,Klassen!$A$5:$G$13), _xlpm.jahrgangVon, INDEX(_xlpm.tabelle,,6), _xlpm.jahrgangBis, INDEX(_xlpm.tabelle,,7), _xlpm.klassenNrSpalte, IF(_xlpm.geschlecht="m", 2, 3), _xlpm.passendeZeile, _xlfn.XMATCH(1, (_xlpm.gebJahr<=_xlpm.jahrgangVon)*(_xlpm.gebJahr>=_xlpm.jahrgangBis), 0), _xlpm.klassenNr, INDEX(_xlpm.tabelle, _xlpm.passendeZeile, _xlpm.klassenNrSpalte), _xlpm.klassenNr )} -> 42 | E11: Muster | F11: Norbert | G11: m | H11: SV Sandkrug | I11: 98.2 | J11: 89.3 | K11: 96.5 | L11: 97.7 | U11: =SUM(I11:N11) -> 381.7 | V11: 01.10.2010 | W11: 0707164-0004 | X11: Musterhausen 1
A12: Beispiel 5 | B12: =VLOOKUP(C12,'[1]SPO-Nr.'!$A$1:$B$19,2,FALSE) -> 25m Standardpistole | C12: 2.60. | D12: {=_xlfn.LET( _xlpm.gebJahr, YEAR(V12), _xlpm.geschlecht, G12, _xlpm.kennzahl, C12, _xlpm.tabelle, IF(ISNUMBER(SEARCH(".11", _xlpm.kennzahl)),Klassen!$A$19:$G$26,Klassen!$A$5:$G$13), _xlpm.jahrgangVon, INDEX(_xlpm.tabelle,,6), _xlpm.jahrgangBis, INDEX(_xlpm.tabelle,,7), _xlpm.klassenNrSpalte, IF(_xlpm.geschlecht="m", 2, 3), _xlpm.passendeZeile, _xlfn.XMATCH(1, (_xlpm.gebJahr<=_xlpm.jahrgangVon)*(_xlpm.gebJahr>=_xlpm.jahrgangBis), 0), _xlpm.klassenNr, INDEX(_xlpm.tabelle, _xlpm.passendeZeile, _xlpm.klassenNrSpalte), _xlpm.klassenNr )} -> 11 | E12: Müller | F12: Anne | G12: w | H12: SV Tweelbäke | I12: 48 | J12: 47 | K12: 48 | L12: 49 | M12: 50 | N12: 47 | O12: 42 | P12: 43 | Q12: 42 | R12: 41 | S12: 43 | T12: 44 | U12: =SUM(I12:T12) -> 544 | V12: 18.09.1989 | W12: 0707064-0250 | Z12: X
A13: 1 | B13: =VLOOKUP(C13,'[1]SPO-Nr.'!$A$1:$B$19,2,FALSE) -> 10m Gewehr | C13: 1.10. | D13: {=_xlfn.LET( _xlpm.gebJahr, YEAR(V13), _xlpm.geschlecht, G13, _xlpm.kennzahl, C13, _xlpm.tabelle, IF(ISNUMBER(SEARCH(".11", _xlpm.kennzahl)),Klassen!$A$19:$G$26,Klassen!$A$5:$G$13), _xlpm.jahrgangVon, INDEX(_xlpm.tabelle,,6), _xlpm.jahrgangBis, INDEX(_xlpm.tabelle,,7), _xlpm.klassenNrSpalte, IF(_xlpm.geschlecht="m", 2, 3), _xlpm.passendeZeile, _xlfn.XMATCH(1, (_xlpm.gebJahr<=_xlpm.jahrgangVon)*(_xlpm.gebJahr>=_xlpm.jahrgangBis), 0), _xlpm.klassenNr, INDEX(_xlpm.tabelle, _xlpm.passendeZeile, _xlpm.klassenNrSpalte), _xlpm.klassenNr )} -> 17 | G13: - | H13: - | U13: =SUM(I13:T13) -> 0
A14: 2 | B14: =VLOOKUP(C14,'[1]SPO-Nr.'!$A$1:$B$19,2,FALSE) -> 10m Gewehr | C14: 1.10. | D14: {=_xlfn.LET( _xlpm.gebJahr, YEAR(V14), _xlpm.geschlecht, G14, _xlpm.kennzahl, C14, _xlpm.tabelle, IF(ISNUMBER(SEARCH(".11", _xlpm.kennzahl)),Klassen!$A$19:$G$26,Klassen!$A$5:$G$13), _xlpm.jahrgangVon, INDEX(_xlpm.tabelle,,6), _xlpm.jahrgangBis, INDEX(_xlpm.tabelle,,7), _xlpm.klassenNrSpalte, IF(_xlpm.geschlecht="m", 2, 3), _xlpm.passendeZeile, _xlfn.XMATCH(1, (_xlpm.gebJahr<=_xlpm.jahrgangVon)*(_xlpm.gebJahr>=_xlpm.jahrgangBis), 0), _xlpm.klassenNr, INDEX(_xlpm.tabelle, _xlpm.passendeZeile, _xlpm.klassenNrSpalte), _xlpm.klassenNr )} -> 17 | G14: - | H14: - | U14: =SUM(I14:T14) -> 0
A15: 3 | B15: =VLOOKUP(C15,'[1]SPO-Nr.'!$A$1:$B$19,2,FALSE) -> 10m Gewehr | C15: 1.10. | D15: {=_xlfn.LET( _xlpm.gebJahr, YEAR(V15), _xlpm.geschlecht, G15, _xlpm.kennzahl, C15, _xlpm.tabelle, IF(ISNUMBER(SEARCH(".11", _xlpm.kennzahl)),Klassen!$A$19:$G$26,Klassen!$A$5:$G$13), _xlpm.jahrgangVon, INDEX(_xlpm.tabelle,,6), _xlpm.jahrgangBis, INDEX(_xlpm.tabelle,,7), _xlpm.klassenNrSpalte, IF(_xlpm.geschlecht="m", 2, 3), _xlpm.passendeZeile, _xlfn.XMATCH(1, (_xlpm.gebJahr<=_xlpm.jahrgangVon)*(_xlpm.gebJahr>=_xlpm.jahrgangBis), 0), _xlpm.klassenNr, INDEX(_xlpm.tabelle, _xlpm.passendeZeile, _xlpm.klassenNrSpalte), _xlpm.klassenNr )} -> 17 | G15: - | H15: - | U15: =SUM(I15:T15) -> 0
A16: 4 | B16: =VLOOKUP(C16,'[1]SPO-Nr.'!$A$1:$B$19,2,FALSE) -> 10m Gewehr | C16: 1.10. | D16: {=_xlfn.LET( _xlpm.gebJahr, YEAR(V16), _xlpm.geschlecht, G16, _xlpm.kennzahl, C16, _xlpm.tabelle, IF(ISNUMBER(SEARCH(".11", _xlpm.kennzahl)),Klassen!$A$19:$G$26,Klassen!$A$5:$G$13), _xlpm.jahrgangVon, INDEX(_xlpm.tabelle,,6), _xlpm.jahrgangBis, INDEX(_xlpm.tabelle,,7), _xlpm.klassenNrSpalte, IF(_xlpm.geschlecht="m", 2, 3), _xlpm.passendeZeile, _xlfn.XMATCH(1, (_xlpm.gebJahr<=_xlpm.jahrgangVon)*(_xlpm.gebJahr>=_xlpm.jahrgangBis), 0), _xlpm.klassenNr, INDEX(_xlpm.tabelle, _xlpm.passendeZeile, _xlpm.klassenNrSpalte), _xlpm.klassenNr )} -> 17 | G16: - | H16: - | U16: =SUM(I16:T16) -> 0
A17: 5 | B17: =VLOOKUP(C17,'[1]SPO-Nr.'!$A$1:$B$19,2,FALSE) -> 10m Gewehr | C17: 1.10. | D17: {=_xlfn.LET( _xlpm.gebJahr, YEAR(V17), _xlpm.geschlecht, G17, _xlpm.kennzahl, C17, _xlpm.tabelle, IF(ISNUMBER(SEARCH(".11", _xlpm.kennzahl)),Klassen!$A$19:$G$26,Klassen!$A$5:$G$13), _xlpm.jahrgangVon, INDEX(_xlpm.tabelle,,6), _xlpm.jahrgangBis, INDEX(_xlpm.tabelle,,7), _xlpm.klassenNrSpalte, IF(_xlpm.geschlecht="m", 2, 3), _xlpm.passendeZeile, _xlfn.XMATCH(1, (_xlpm.gebJahr<=_xlpm.jahrgangVon)*(_xlpm.gebJahr>=_xlpm.jahrgangBis), 0), _xlpm.klassenNr, INDEX(_xlpm.tabelle, _xlpm.passendeZeile, _xlpm.klassenNrSpalte), _xlpm.klassenNr )} -> 17 | G17: - | H17: - | U17: =SUM(I17:T17) -> 0
A18: 6 | B18: =VLOOKUP(C18,'[1]SPO-Nr.'!$A$1:$B$19,2,FALSE) -> 10m Gewehr | C18: 1.10. | D18: {=_xlfn.LET( _xlpm.gebJahr, YEAR(V18), _xlpm.geschlecht, G18, _xlpm.kennzahl, C18, _xlpm.tabelle, IF(ISNUMBER(SEARCH(".11", _xlpm.kennzahl)),Klassen!$A$19:$G$26,Klassen!$A$5:$G$13), _xlpm.jahrgangVon, INDEX(_xlpm.tabelle,,6), _xlpm.jahrgangBis, INDEX(_xlpm.tabelle,,7), _xlpm.klassenNrSpalte, IF(_xlpm.geschlecht="m", 2, 3), _xlpm.passendeZeile, _xlfn.XMATCH(1, (_xlpm.gebJahr<=_xlpm.jahrgangVon)*(_xlpm.gebJahr>=_xlpm.jahrgangBis), 0), _xlpm.klassenNr, INDEX(_xlpm.tabelle, _xlpm.passendeZeile, _xlpm.klassenNrSpalte), _xlpm.klassenNr )} -> 17 | G18: - | H18: - | U18: =SUM(I18:T18) -> 0
A19: 7 | B19: =VLOOKUP(C19,'[1]SPO-Nr.'!$A$1:$B$19,2,FALSE) -> 10m Gewehr | C19: 1.10. | D19: {=_xlfn.LET( _xlpm.gebJahr, YEAR(V19), _xlpm.geschlecht, G19, _xlpm.kennzahl, C19, _xlpm.tabelle, IF(ISNUMBER(SEARCH(".11", _xlpm.kennzahl)),Klassen!$A$19:$G$26,Klassen!$A$5:$G$13), _xlpm.jahrgangVon, INDEX(_xlpm.tabelle,,6), _xlpm.jahrgangBis, INDEX(_xlpm.tabelle,,7), _xlpm.klassenNrSpalte, IF(_xlpm.geschlecht="m", 2, 3), _xlpm.passendeZeile, _xlfn.XMATCH(1, (_xlpm.gebJahr<=_xlpm.jahrgangVon)*(_xlpm.gebJahr>=_xlpm.jahrgangBis), 0), _xlpm.klassenNr, INDEX(_xlpm.tabelle, _xlpm.passendeZeile, _xlpm.klassenNrSpalte), _xlpm.klassenNr )} -> 17 | G19: - | H19: - | U19: =SUM(I19:T19) -> 0
A20: 8 | B20: =VLOOKUP(C20,'[1]SPO-Nr.'!$A$1:$B$19,2,FALSE) -> 10m Gewehr | C20: 1.10. | D20: {=_xlfn.LET( _xlpm.gebJahr, YEAR(V20), _xlpm.geschlecht, G20, _xlpm.kennzahl, C20, _xlpm.tabelle, IF(ISNUMBER(SEARCH(".11", _xlpm.kennzahl)),Klassen!$A$19:$G$26,Klassen!$A$5:$G$13), _xlpm.jahrgangVon, INDEX(_xlpm.tabelle,,6), _xlpm.jahrgangBis, INDEX(_xlpm.tabelle,,7), _xlpm.klassenNrSpalte, IF(_xlpm.geschlecht="m", 2, 3), _xlpm.passendeZeile, _xlfn.XMATCH(1, (_xlpm.gebJahr<=_xlpm.jahrgangVon)*(_xlpm.gebJahr>=_xlpm.jahrgangBis), 0), _xlpm.klassenNr, INDEX(_xlpm.tabelle, _xlpm.passendeZeile, _xlpm.klassenNrSpalte), _xlpm.klassenNr )} -> 17 | G20: - | H20: - | U20: =SUM(I20:T20) -> 0
A21: 9 | B21: =VLOOKUP(C21,'[1]SPO-Nr.'!$A$1:$B$19,2,FALSE) -> 10m Gewehr | C21: 1.10. | D21: {=_xlfn.LET( _xlpm.gebJahr, YEAR(V21), _xlpm.geschlecht, G21, _xlpm.kennzahl, C21, _xlpm.tabelle, IF(ISNUMBER(SEARCH(".11", _xlpm.kennzahl)),Klassen!$A$19:$G$26,Klassen!$A$5:$G$13), _xlpm.jahrgangVon, INDEX(_xlpm.tabelle,,6), _xlpm.jahrgangBis, INDEX(_xlpm.tabelle,,7), _xlpm.klassenNrSpalte, IF(_xlpm.geschlecht="m", 2, 3), _xlpm.passendeZeile, _xlfn.XMATCH(1, (_xlpm.gebJahr<=_xlpm.jahrgangVon)*(_xlpm.gebJahr>=_xlpm.jahrgangBis), 0), _xlpm.klassenNr, INDEX(_xlpm.tabelle, _xlpm.passendeZeile, _xlpm.klassenNrSpalte), _xlpm.klassenNr )} -> 17 | G21: - | H21: - | U21: =SUM(I21:T21) -> 0
A22: 10 | B22: =VLOOKUP(C22,'[1]SPO-Nr.'!$A$1:$B$19,2,FALSE) -> 10m Gewehr | C22: 1.10. | D22: {=_xlfn.LET( _xlpm.gebJahr, YEAR(V22), _xlpm.geschlecht, G22, _xlpm.kennzahl, C22, _xlpm.tabelle, IF(ISNUMBER(SEARCH(".11", _xlpm.kennzahl)),Klassen!$A$19:$G$26,Klassen!$A$5:$G$13), _xlpm.jahrgangVon, INDEX(_xlpm.tabelle,,6), _xlpm.jahrgangBis, INDEX(_xlpm.tabelle,,7), _xlpm.klassenNrSpalte, IF(_xlpm.geschlecht="m", 2, 3), _xlpm.passendeZeile, _xlfn.XMATCH(1, (_xlpm.gebJahr<=_xlpm.jahrgangVon)*(_xlpm.gebJahr>=_xlpm.jahrgangBis), 0), _xlpm.klassenNr, INDEX(_xlpm.tabelle, _xlpm.passendeZeile, _xlpm.klassenNrSpalte), _xlpm.klassenNr )} -> 17 | G22: - | H22: - | U22: =SUM(I22:T22) -> 0
A23: 11 | B23: =VLOOKUP(C23,'[1]SPO-Nr.'!$A$1:$B$19,2,FALSE) -> 10m Gewehr | C23: 1.10. | D23: {=_xlfn.LET( _xlpm.gebJahr, YEAR(V23), _xlpm.geschlecht, G23, _xlpm.kennzahl, C23, _xlpm.tabelle, IF(ISNUMBER(SEARCH(".11", _xlpm.kennzahl)),Klassen!$A$19:$G$26,Klassen!$A$5:$G$13), _xlpm.jahrgangVon, INDEX(_xlpm.tabelle,,6), _xlpm.jahrgangBis, INDEX(_xlpm.tabelle,,7), _xlpm.klassenNrSpalte, IF(_xlpm.geschlecht="m", 2, 3), _xlpm.passendeZeile, _xlfn.XMATCH(1, (_xlpm.gebJahr<=_xlpm.jahrgangVon)*(_xlpm.gebJahr>=_xlpm.jahrgangBis), 0), _xlpm.klassenNr, INDEX(_xlpm.tabelle, _xlpm.passendeZeile, _xlpm.klassenNrSpalte), _xlpm.klassenNr )} -> 17 | G23: - | H23: - | U23: =SUM(I23:T23) -> 0
A24: 12 | B24: =VLOOKUP(C24,'[1]SPO-Nr.'!$A$1:$B$19,2,FALSE) -> 10m Gewehr | C24: 1.10. | D24: {=_xlfn.LET( _xlpm.gebJahr, YEAR(V24), _xlpm.geschlecht, G24, _xlpm.kennzahl, C24, _xlpm.tabelle, IF(ISNUMBER(SEARCH(".11", _xlpm.kennzahl)),Klassen!$A$19:$G$26,Klassen!$A$5:$G$13), _xlpm.jahrgangVon, INDEX(_xlpm.tabelle,,6), _xlpm.jahrgangBis, INDEX(_xlpm.tabelle,,7), _xlpm.klassenNrSpalte, IF(_xlpm.geschlecht="m", 2, 3), _xlpm.passendeZeile, _xlfn.XMATCH(1, (_xlpm.gebJahr<=_xlpm.jahrgangVon)*(_xlpm.gebJahr>=_xlpm.jahrgangBis), 0), _xlpm.klassenNr, INDEX(_xlpm.tabelle, _xlpm.passendeZeile, _xlpm.klassenNrSpalte), _xlpm.klassenNr )} -> 17 | G24: - | H24: - | U24: =SUM(I24:T24) -> 0
A25: 13 | B25: =VLOOKUP(C25,'[1]SPO-Nr.'!$A$1:$B$19,2,FALSE) -> 10m Gewehr | C25: 1.10. | D25: {=_xlfn.LET( _xlpm.gebJahr, YEAR(V25), _xlpm.geschlecht, G25, _xlpm.kennzahl, C25, _xlpm.tabelle, IF(ISNUMBER(SEARCH(".11", _xlpm.kennzahl)),Klassen!$A$19:$G$26,Klassen!$A$5:$G$13), _xlpm.jahrgangVon, INDEX(_xlpm.tabelle,,6), _xlpm.jahrgangBis, INDEX(_xlpm.tabelle,,7), _xlpm.klassenNrSpalte, IF(_xlpm.geschlecht="m", 2, 3), _xlpm.passendeZeile, _xlfn.XMATCH(1, (_xlpm.gebJahr<=_xlpm.jahrgangVon)*(_xlpm.gebJahr>=_xlpm.jahrgangBis), 0), _xlpm.klassenNr, INDEX(_xlpm.tabelle, _xlpm.passendeZeile, _xlpm.klassenNrSpalte), _xlpm.klassenNr )} -> 17 | G25: - | H25: - | U25: =SUM(I25:T25) -> 0
A28: *Wird automatisch gefüllt

Sheet SPO-Nr.
A1: 1.10. | B1: 10m Gewehr
A2: 1.11. | B2: 10m Gewehr Auflage
A3: 1.12. | B3: 10m Gewehr MixTeam
A4: 1.20. | B4: 10m Gewehr 3-Stellung
A5: 1.40. | B5: KK 3x20
A6: 1.41. | B6: KK-Gewehr 50 m Auflage
A7: 1.42. | B7: KK-Gewehr 50 m 30 Schuss
A8: 1.80. | B8: KK Liegendkampf
A9: 2.10. | B9: 10m Luftpistole
A10: 2.11. | B10: 10 m Luftpistole Auflage
A11: 2.12. | B11: 10m Luftpistole MixTeam
A12: 2.40. | B12: 25m Pistole
... A19: 6.26. | B19: Bogen Halle Blankbogen

Sheet Klassen
A1: 2027
A2: Einteilung der Wettkampfklassen für Kugel- / Target Sprint- / Sommerbiathlon-Wettbewerbe
A3: Klassenbezeichnung | B3: Klassen-Nr. | D3: Alter | F3: Jahrgang
B4: m | C4: w | D4: ab | E4: bis | F4: von | G4: bis
A5: Herren I / Damen I | B5: 10 | C5: =B5+1 -> 11 | D5: 21 | E5: 40 | F5: =$A$1-D5 -> 2006 | G5: =$A$1-E5 -> 1987
A6: Herren II / Damen II | B6: 12 | C6: =B6+1 -> 13 | D6: 41 | E6: 50 | F6: =$A$1-D6 -> 1986 | G6: =$A$1-E6 -> 1977
A7: Herren III / Damen III | B7: 14 | C7: =B7+1 -> 15 | D7: 51 | E7: 60 | F7: =$A$1-D7 -> 1976 | G7: =$A$1-E7 -> 1967
A8: Herren IV / Damen IV | B8: 16 | C8: =B8+1 -> 17 | D8: 61 | E8: 110 | F8: =$A$1-D8 -> 1966 | G8: 1890
A9: Schüler I | B9: 20 | C9: =B9+1 -> 21 | D9: 13 | E9: 14 | F9: =$A$1-D9 -> 2014 | G9: =$A$1-E9 -> 2013
A10: Schüler II | B10: 22 | C10: =B10+1 -> 23 | D10: 11 | E10: 12 | F10: =$A$1-D10 -> 2016 | G10: =$A$1-E10 -> 2015
A11: Jugend m./w. | B11: 30 | C11: =B11+1 -> 31 | D11: 15 | E11: 16 | F11: =$A$1-D11 -> 2012 | G11: =$A$1-E11 -> 2011
A12: Junioren I m./w. | B12: 40 | C12: =B12+1 -> 41 | D12: 19 | E12: 20 | F12: =$A$1-D12 -> 2008 | G12: =$A$1-E12 -> 2007
A13: Junioren II m./w. | B13: 42 | C13: =B13+1 -> 43 | D13: 17 | E13: 18 | F13: =$A$1-D13 -> 2010 | G13: =$A$1-E13 -> 2009
A16: Einteilung der Wettkampfklassen für Auflage-Wettbewerbe
A17: Klassenbezeichnung | B17: Klassen-Nr. | D17: Alter | F17: Jahrgang
B18: m | C18: w | D18: ab | E18: bis | F18: von | G18: bis
A19: Schüler III | B19: 24 | C19: =B19+1 -> 25 | D19: 9 | E19: 10 | F19: =$A$1-D19 -> 2018 | G19: =$A$1-E19 -> 2017
A20: Schüler IV | B20: 26 | C20: =B20+1 -> 27 | D20: 0 | E20: 8 | G20: =$A$1-E20 -> 2019
A21: Senioren 0 m./w. | B21: 68 | C21: =B21+1 -> 69 | D21: 41 | E21: 50 | F21: =$A$1-D21 -> 1986 | G21: =$A$1-E21 -> 1977
A22: Senioren I | B22: 70 | C22: =B22+1 -> 71 | D22: 51 | E22: 60 | F22: =$A$1-D22 -> 1976 | G22: =$A$1-E22 -> 1967
A23: Senioren II | B23: 72 | C23: =B23+1 -> 73 | D23: 61 | E23: 65 | F23: =$A$1-D23 -> 1966 | G23: =$A$1-E23 -> 1962
A24: Senioren III | B24: 74 | C24: =B24+1 -> 75 | D24: 66 | E24: 70 | F24: =$A$1-D24 -> 1961 | G24: =$A$1-E24 -> 1957
A25: Senioren IV | B25: 76 | C25: =B25+1 -> 77 | D25: 71 | E25: 75 | F25: =$A$1-D25 -> 1956 | G25: =$A$1-E25 -> 1952
A26: Senioren V | B26: 78 | C26: =B26+1 -> 79 | D26: 76 | E26: 110 | F26: =$A$1-D26 -> 1951 | G26: 1890

Sheet Daten
A1: - | B1: -
A2: SV Sandkrug | B2: d
A3: SV Tweelbäke | B3: w
A4: SV Hatten | B4: m
A5: SV Huntlosen
A6: SV Munderloh
A7: Wardenburger SV
